BEGIN:VCALENDAR
VERSION:2.0
PRODID:-//North Simcoe Muskoka Hospice Palliative Care - ECPv6.15.17.1//NONSGML v1.0//EN
CALSCALE:GREGORIAN
METHOD:PUBLISH
X-WR-CALNAME:North Simcoe Muskoka Hospice Palliative Care
X-ORIGINAL-URL:https://staging.nsmhpcn.ca
X-WR-CALDESC:Events for North Simcoe Muskoka Hospice Palliative Care
REFRESH-INTERVAL;VALUE=DURATION:PT1H
X-Robots-Tag:noindex
X-PUBLISHED-TTL:PT1H
BEGIN:VTIMEZONE
TZID:America/Toronto
BEGIN:DAYLIGHT
TZOFFSETFROM:-0500
TZOFFSETTO:-0400
TZNAME:EDT
DTSTART:20210314T070000
END:DAYLIGHT
BEGIN:STANDARD
TZOFFSETFROM:-0400
TZOFFSETTO:-0500
TZNAME:EST
DTSTART:20211107T060000
END:STANDARD
BEGIN:DAYLIGHT
TZOFFSETFROM:-0500
TZOFFSETTO:-0400
TZNAME:EDT
DTSTART:20220313T070000
END:DAYLIGHT
BEGIN:STANDARD
TZOFFSETFROM:-0400
TZOFFSETTO:-0500
TZNAME:EST
DTSTART:20221106T060000
END:STANDARD
BEGIN:DAYLIGHT
TZOFFSETFROM:-0500
TZOFFSETTO:-0400
TZNAME:EDT
DTSTART:20230312T070000
END:DAYLIGHT
BEGIN:STANDARD
TZOFFSETFROM:-0400
TZOFFSETTO:-0500
TZNAME:EST
DTSTART:20231105T060000
END:STANDARD
END:VTIMEZONE
BEGIN:VEVENT
DTSTART;TZID=America/Toronto:20221025T140000
DTEND;TZID=America/Toronto:20221025T180000
DTSTAMP:20260421T100209
CREATED:20220928T194434Z
LAST-MODIFIED:20220928T194434Z
UID:20844-1666706400-1666720800@staging.nsmhpcn.ca
SUMMARY:Compassionate Community Expo
DESCRIPTION:
URL:https://staging.nsmhpcn.ca/event/compassionate-community-expo/
LOCATION:Royal Canadian Legion Branch 63\, 490 Ontario St\, Collingwood\, ON\, L9Y 1N6\, Canada
CATEGORIES:Community Event
END:VEVENT
END:VCALENDAR