BEGIN:VCALENDAR
VERSION:2.0
PRODID:-//North Simcoe Muskoka Hospice Palliative Care - ECPv6.15.17.1//NONSGML v1.0//EN
CALSCALE:GREGORIAN
METHOD:PUBLISH
X-WR-CALNAME:North Simcoe Muskoka Hospice Palliative Care
X-ORIGINAL-URL:https://staging.nsmhpcn.ca
X-WR-CALDESC:Events for North Simcoe Muskoka Hospice Palliative Care
REFRESH-INTERVAL;VALUE=DURATION:PT1H
X-Robots-Tag:noindex
X-PUBLISHED-TTL:PT1H
BEGIN:VTIMEZONE
TZID:America/Toronto
BEGIN:DAYLIGHT
TZOFFSETFROM:-0500
TZOFFSETTO:-0400
TZNAME:EDT
DTSTART:20230312T070000
END:DAYLIGHT
BEGIN:STANDARD
TZOFFSETFROM:-0400
TZOFFSETTO:-0500
TZNAME:EST
DTSTART:20231105T060000
END:STANDARD
BEGIN:DAYLIGHT
TZOFFSETFROM:-0500
TZOFFSETTO:-0400
TZNAME:EDT
DTSTART:20240310T070000
END:DAYLIGHT
BEGIN:STANDARD
TZOFFSETFROM:-0400
TZOFFSETTO:-0500
TZNAME:EST
DTSTART:20241103T060000
END:STANDARD
BEGIN:DAYLIGHT
TZOFFSETFROM:-0500
TZOFFSETTO:-0400
TZNAME:EDT
DTSTART:20250309T070000
END:DAYLIGHT
BEGIN:STANDARD
TZOFFSETFROM:-0400
TZOFFSETTO:-0500
TZNAME:EST
DTSTART:20251102T060000
END:STANDARD
END:VTIMEZONE
BEGIN:VEVENT
DTSTART;TZID=America/Toronto:20240903T110000
DTEND;TZID=America/Toronto:20240903T120000
DTSTAMP:20260421T161332
CREATED:20240201T185227Z
LAST-MODIFIED:20240910T202800Z
UID:24823-1725361200-1725364800@staging.nsmhpcn.ca
SUMMARY:CAPCE (Comprehensive Advanced Palliative Care Education) Intro Week Fall
DESCRIPTION:Comprehensive Advanced Palliative Care Education (CAPCE) Program\n\nThe CAPCE program is uniquely designed for nurses (RPN\, RN\, NP) to develop their leadership and expertise skills in hospice palliative care across all healthcare sectors. \nDuration: Approximately 5 months \nFee: $250 \nCourse Components: \n\nFour\, 4-hour virtual in-class Case Based Learning sessions\nCoaching Sessions (6-8) 2-hours each\n Two Practical Application Assignments\nSelf directed reading\nIndependent Online Modules x 6\nFour Peer-to Peer exchanges\n\nAll course components are mandatory\, including attendance at all virtual in class learning sessions. \nPre-requisite \nTo be eligible to participate in the CAPCE program\, the following pre-requisites are required: \n\nFundamentals of Hospice Palliative Care Program\nA minimum of 1-year experience caring for people with a progressive\, life-limiting illness\nAbility and interest to function as a Resource Nurse\, providing primary level support and advanced level knowledge and skills for care team members in his or her organization\nAbility and interest to coach others\, facilitate change and be a role model\nSensitivity to the impact of attitudes\, behaviours\, life experiences\, values\, thoughts and feelings on the well-being and quality of life from the perspective of all partners in care\n\n\n\nStart Date: \nSeptember 3\, 2024 \nRegistration Deadline: \nAugust 20\, 2024 \nTime: \n11:00 AM – 3:00 PM \nRequired Sessions: \n\nSept. 3\, 2024*\nSept. 10\, 2024\nOct. 15\, 2024\nDec. 10\, 2024\n\n*Sept. 3rd time is \n11:00 am – 12:00 pm \n\n\nRegister
URL:https://staging.nsmhpcn.ca/event/capce-comprehensive-advanced-palliative-care-education-intro-week-a/
LOCATION:Online
CATEGORIES:CAPCE
END:VEVENT
BEGIN:VEVENT
DTSTART;TZID=America/Toronto:20240910T110000
DTEND;TZID=America/Toronto:20240910T110000
DTSTAMP:20260421T161332
CREATED:20240201T185227Z
LAST-MODIFIED:20240910T202812Z
UID:24824-1725966000-1725966000@staging.nsmhpcn.ca
SUMMARY:CAPCE (Comprehensive Advanced Palliative Care Education) Week 1 Fall
DESCRIPTION:
URL:https://staging.nsmhpcn.ca/event/capce-comprehensive-advanced-palliative-care-education-week-1-a/
LOCATION:Online
CATEGORIES:CAPCE
END:VEVENT
BEGIN:VEVENT
DTSTART;TZID=America/Toronto:20240912T090000
DTEND;TZID=America/Toronto:20240912T120000
DTSTAMP:20260421T161332
CREATED:20240201T151712Z
LAST-MODIFIED:20240910T202825Z
UID:24812-1726131600-1726142400@staging.nsmhpcn.ca
SUMMARY:Fundamentals of Hospice Palliative Care (Week #1) Fall
DESCRIPTION:The Fundamentals of Hospice Palliative Care program is a highly interactive\, introductory course for all healthcare providers\, support workers\, and volunteers interested in enhancing their knowledge of Hospice Palliative Care. \nDuration: Approximately 9 weeks \nCourse Components: \n\nThree\, 3-hour virtual in-class Case Based Learning sessions\nSelf-directed online learning modules x 11\nTwo Peer-to-peer exchanges\nOne reflective Activity\n\nAll course components are mandatory\, including attendance at all virtual in-class learning sessions. \nFee: $40 \nPre-requisite: None \nStart Date: \nSeptember 12\, 2024 \nRegistration Deadline: \nAugust 29\, 2024 \nTime: \n9:00 AM – 12:00 PM \nRequired Sessions: \n\nSept. 12\, 2024\nOct. 3\, 2024\nOct. 17\, 2024\n\nEnhanced Course Day: \n\nOct. 31\, 2024\n10:00 AM – 12:00 PM\n\n\n\nRegister
URL:https://staging.nsmhpcn.ca/event/fundamentals-of-hospice-palliative-care-week-1-c/
LOCATION:Online
CATEGORIES:Fundamentals
END:VEVENT
END:VCALENDAR